BEGIN:VCALENDAR
VERSION:2.0
PRODID:-//buddha.live - ECPv6.15.20//NONSGML v1.0//EN
CALSCALE:GREGORIAN
METHOD:PUBLISH
X-WR-CALNAME:buddha.live
X-ORIGINAL-URL:https://buddha.live
X-WR-CALDESC:Events for buddha.live
REFRESH-INTERVAL;VALUE=DURATION:PT1H
X-Robots-Tag:noindex
X-PUBLISHED-TTL:PT1H
BEGIN:VTIMEZONE
TZID:Europe/Berlin
BEGIN:DAYLIGHT
TZOFFSETFROM:+0100
TZOFFSETTO:+0200
TZNAME:CEST
DTSTART:20230326T010000
END:DAYLIGHT
BEGIN:STANDARD
TZOFFSETFROM:+0200
TZOFFSETTO:+0100
TZNAME:CET
DTSTART:20231029T010000
END:STANDARD
BEGIN:DAYLIGHT
TZOFFSETFROM:+0100
TZOFFSETTO:+0200
TZNAME:CEST
DTSTART:20240331T010000
END:DAYLIGHT
BEGIN:STANDARD
TZOFFSETFROM:+0200
TZOFFSETTO:+0100
TZNAME:CET
DTSTART:20241027T010000
END:STANDARD
BEGIN:DAYLIGHT
TZOFFSETFROM:+0100
TZOFFSETTO:+0200
TZNAME:CEST
DTSTART:20250330T010000
END:DAYLIGHT
BEGIN:STANDARD
TZOFFSETFROM:+0200
TZOFFSETTO:+0100
TZNAME:CET
DTSTART:20251026T010000
END:STANDARD
END:VTIMEZONE
BEGIN:VEVENT
DTSTART;TZID=Europe/Berlin:20240715T080000
DTEND;TZID=Europe/Berlin:20240731T170000
DTSTAMP:20260420T152131
CREATED:20231003T154637Z
LAST-MODIFIED:20231116T102249Z
UID:1108-1721030400-1722445200@buddha.live
SUMMARY:ARUN Conscious Touch & the Medicine Buddha - Full Training
DESCRIPTION:In the mystical union of Spiritual Love and Inner Awareness “ARUN Conscious Touch” is born. Since 1994\, ARUN is lovingly dedicated to the on-going\, conscious evolution of creative Human Touch. \n\n\n\nARUN recognizes that “the Human Body is the greatest mystery of the whole of Existence”\, and it teaches that we are actually a vibrating Electro-Magnetic Field\, infused with Consciousness- as a living Organic Unity. \n\n\n\nARUN could also be called “Essential Education”- as you will learn a new\, vibrant and meditative way to live in your physical body; a more creative and positive way to use your mind/brain; and you learn how to allow hour natural subtle energies and total sensitivity to flow… moment to moment\, in all areas of your Life. With ARUN Conscious Touch\, you naturally develop more “Presence”\, which is fundamental to Healing and Meditation. \n\n\n\nInfo & Reservations: Kamala Matsuno~ lilyrosestarbkamala@gmail.com
URL:https://buddha.live/event/arun-conscious-touch-the-medicine-buddha-full-training/
LOCATION:Lalita Retreat Center\, Spain\, Lugar Finca El Linar 1\,\, Acebo\, Cáceres\, 10857\, Spain
CATEGORIES:Training
ATTACH;FMTTYPE=image/webp:https://buddha.live/wp-content/uploads/2023/10/1000_1624620709.webp
END:VEVENT
BEGIN:VEVENT
DTSTART;TZID=Europe/Berlin:20240526T080000
DTEND;TZID=Europe/Berlin:20240602T170000
DTSTAMP:20260420T152131
CREATED:20231116T100057Z
LAST-MODIFIED:20231116T100107Z
UID:1469-1716710400-1717347600@buddha.live
SUMMARY:ARUN Conscious Touch Special Training for Bodyworkers & Healers
DESCRIPTION:For over 15 years\, Anasha and Anubuddha have enjoyed sharing sharing ARUN Conscious Touch for “Meditative Bodyworkers” at Parimal. Parimal is especially conductive for a Rejuvenating & Transformative Retreat experience. \n\n\n\nMore Info & Reservations:  Pujarin Silvia Merkle~ silvia.merkle@web.de
URL:https://buddha.live/event/arun-conscious-touch-special-training-for-bodyworkers-healers/
LOCATION:Parimal Meditation Retreat Center\, Hübenthal 1\, Witzenhausen\, 37218\, Germany
ORGANIZER;CN="ARUN Academy - Anubuddha & Anasha":MAILTO:anubuddha@yahoo.com
END:VEVENT
BEGIN:VEVENT
DTSTART;TZID=Europe/Berlin:20240520T080000
DTEND;TZID=Europe/Berlin:20240524T170000
DTSTAMP:20260420T152131
CREATED:20231003T160141Z
LAST-MODIFIED:20231116T100130Z
UID:1125-1716192000-1716570000@buddha.live
SUMMARY:ARUN Conscious Touch & Breath of Meditation in Holland
DESCRIPTION:This “Advanced ARUN Conscious Touch” Seminar is created by the Dutch Rebalancing Friends as a “Master Class” for practitioners of Rebalancing\, Massage therapists\, and Touch-based Healers… \n\n\n\nMore Info & Reservations:  Marjan Imminkhuizen~ marjan@box.nl \n\n\n\nhttps://maanhoeve.nl
URL:https://buddha.live/event/arun-conscious-touch-breath-of-meditation-in-holland/
LOCATION:De Maanhoeve\, Holland\, Netherlands
ATTACH;FMTTYPE=image/jpeg:https://buddha.live/wp-content/uploads/2023/10/332274733_240068655056705_700470596870807460_n.jpeg
ORGANIZER;CN="ARUN Academy - Anubuddha & Anasha":MAILTO:anubuddha@yahoo.com
END:VEVENT
BEGIN:VEVENT
DTSTART;TZID=Europe/Berlin:20240227T170000
DTEND;TZID=Europe/Berlin:20240227T170000
DTSTAMP:20260420T152131
CREATED:20240226T111753Z
LAST-MODIFIED:20240226T111900Z
UID:1513-1709053200-1709053200@buddha.live
SUMMARY:Buddha Eye - Online Event
DESCRIPTION:Activation of Our Mysterious Pineal Gland\, Vagus Nerve\, & Cosmic Cerebro-Spinal fluids… \n\n\n\n\n\nLocation: The comfort of your home… 2 hours Live on ZOOM. \n\n\n\n\n\nPlease include your name and email address when enrolling\, so we can send you the Link and a special bonus for joining in.”
URL:https://buddha.live/event/buddha-eye-online-event/
LOCATION:Cáceres
ATTACH;FMTTYPE=image/jpeg:https://buddha.live/wp-content/uploads/2024/02/buddhaeye.jpeg
ORGANIZER;CN="ARUN Academy - Anubuddha & Anasha":MAILTO:anubuddha@yahoo.com
END:VEVENT
END:VCALENDAR